BEGIN:VCALENDAR
VERSION:2.0
PRODID:-//Giles County Democrats - ECPv6.15.20//NONSGML v1.0//EN
CALSCALE:GREGORIAN
METHOD:PUBLISH
X-ORIGINAL-URL:https://gilescountytndemocrats.com
X-WR-CALDESC:Events for Giles County Democrats
REFRESH-INTERVAL;VALUE=DURATION:PT1H
X-Robots-Tag:noindex
X-PUBLISHED-TTL:PT1H
BEGIN:VTIMEZONE
TZID:America/Chicago
BEGIN:DAYLIGHT
TZOFFSETFROM:-0600
TZOFFSETTO:-0500
TZNAME:CDT
DTSTART:20230312T080000
END:DAYLIGHT
BEGIN:STANDARD
TZOFFSETFROM:-0500
TZOFFSETTO:-0600
TZNAME:CST
DTSTART:20231105T070000
END:STANDARD
BEGIN:DAYLIGHT
TZOFFSETFROM:-0600
TZOFFSETTO:-0500
TZNAME:CDT
DTSTART:20240310T080000
END:DAYLIGHT
BEGIN:STANDARD
TZOFFSETFROM:-0500
TZOFFSETTO:-0600
TZNAME:CST
DTSTART:20241103T070000
END:STANDARD
BEGIN:DAYLIGHT
TZOFFSETFROM:-0600
TZOFFSETTO:-0500
TZNAME:CDT
DTSTART:20250309T080000
END:DAYLIGHT
BEGIN:STANDARD
TZOFFSETFROM:-0500
TZOFFSETTO:-0600
TZNAME:CST
DTSTART:20251102T070000
END:STANDARD
BEGIN:DAYLIGHT
TZOFFSETFROM:-0600
TZOFFSETTO:-0500
TZNAME:CDT
DTSTART:20260308T080000
END:DAYLIGHT
BEGIN:STANDARD
TZOFFSETFROM:-0500
TZOFFSETTO:-0600
TZNAME:CST
DTSTART:20261101T070000
END:STANDARD
BEGIN:DAYLIGHT
TZOFFSETFROM:-0600
TZOFFSETTO:-0500
TZNAME:CDT
DTSTART:20270314T080000
END:DAYLIGHT
BEGIN:STANDARD
TZOFFSETFROM:-0500
TZOFFSETTO:-0600
TZNAME:CST
DTSTART:20271107T070000
END:STANDARD
END:VTIMEZONE
BEGIN:VEVENT
DTSTART;TZID=America/Chicago:20240914T094500
DTEND;TZID=America/Chicago:20240914T120000
DTSTAMP:20260419T125632
CREATED:20240911T184949Z
LAST-MODIFIED:20240914T125520Z
UID:1145-1726307100-1726315200@gilescountytndemocrats.com
SUMMARY:Canvassing to Get Out the Vote  9-14-2024
DESCRIPTION:Postponed due to rain.  Will be rescheduled. \nThe Giles County Democratic Party will conduct a canvassing event on Saturday\, September 14th at 9:45 am. to noon.  Volunteers will meet at the parking lot of the Pulaski Parks and Recreation Center.  If you have no experience at canvassing\, not a problem.  There will be an experienced person with each team.  Come out\, join up with other Giles County Democrats and help us Get Out the Vote. \nCheck back on this page Saturday morning in the event of rain.  We’ll keep this post updated should the weather interfere.  
URL:https://gilescountytndemocrats.com/event/canvassing-to-get-out-the-vote-9-14-2024/
LOCATION:Pulaski Recreation Center\, 333 East College Street\, Pulaski\, TN\, TN\, 38478\, United States
ORGANIZER;CN="Democratic Party of Giles County":MAILTO:demsgilesco@gmail.com
END:VEVENT
BEGIN:VEVENT
DTSTART;TZID=America/Chicago:20240928T094500
DTEND;TZID=America/Chicago:20240928T120000
DTSTAMP:20260419T125632
CREATED:20240927T134217Z
LAST-MODIFIED:20240927T134217Z
UID:1154-1727516700-1727524800@gilescountytndemocrats.com
SUMMARY:Get Out the Vote Canvassing  9-28-24
DESCRIPTION:Join us on Saturday 9/28/24 at 9:45 am to knock doors and promote our Democratic candidates.  We’ll meet at the Pulaski Rec Center parking lot to get organized then go in teams to talk with voters in the city limits from 10:00 to Noon.  All supporters of the Giles County Democratic Party are welcomed to join this activity.  
URL:https://gilescountytndemocrats.com/event/get-out-the-vote-canvassing-9-28-24/
LOCATION:Pulaski Recreation Center\, 333 East College Street\, Pulaski\, TN\, TN\, 38478\, United States
ORGANIZER;CN="Democratic Party of Giles County":MAILTO:demsgilesco@gmail.com
END:VEVENT
BEGIN:VEVENT
DTSTART;TZID=America/Chicago:20241019T130000
DTEND;TZID=America/Chicago:20241019T160000
DTSTAMP:20260419T125632
CREATED:20241006T125518Z
LAST-MODIFIED:20241006T130529Z
UID:1177-1729342800-1729353600@gilescountytndemocrats.com
SUMMARY:Meet the Candidates
DESCRIPTION:The Giles County Democratic Party will host an event for Giles countians to meet and speak with our local and state Democratic Candidates.   Our featured speaker for the event will be TN Rep Justin Jones.  This event is open to all and will be a great opportunity to meet and speak with the candidates.   \n 
URL:https://gilescountytndemocrats.com/event/meet-the-candidates/
LOCATION:Pulaski Event Center\, 410 N. First Street\, Pulaski\, TN\, 38478\, United States
ORGANIZER;CN="Democratic Party of Giles County":MAILTO:demsgilesco@gmail.com
END:VEVENT
BEGIN:VEVENT
DTSTART;TZID=America/Chicago:20250102T080000
DTEND;TZID=America/Chicago:20250102T170000
DTSTAMP:20260419T125632
CREATED:20250102T222430Z
LAST-MODIFIED:20250102T222430Z
UID:1199-1735804800-1735837200@gilescountytndemocrats.com
SUMMARY:2025 Pre-Session Fundraiser
DESCRIPTION:  \nAs we close out another year\, I want to take a moment to thank you for your support and commitment to building a brighter future for Tennessee families. \nThe 2025 legislative session is just around the corner\, and your Tennessee House Democratic Caucus is ready to get back to work for Tennessee families. Together\, we’ll continue our fight to protect and strengthen our public schools\, increase access to quality\, affordable healthcare\, and ensure economic opportunity for all. \nKick off the new year with us at our Pre-Session Fundraiser on Thursday\, January 9th at Henrietta Red in Nashville! RSVP here. See you there! \nWishing you and your loved ones a happy and healthy New Year. Let’s make 2025 a year of meaningful progress—together. \nJohn Ray Clemmons\, Chairman\, Tennessee House Democratic Caucus
URL:https://gilescountytndemocrats.com/event/2025-pre-session-fundraiser/
LOCATION:TN
ATTACH;FMTTYPE=image/jpeg:https://gilescountytndemocrats.com/wp-content/uploads/2025/01/fundriaser.jpg
END:VEVENT
BEGIN:VEVENT
DTSTART;TZID=America/Chicago:20250121T180000
DTEND;TZID=America/Chicago:20250121T193000
DTSTAMP:20260419T125632
CREATED:20250106T155105Z
LAST-MODIFIED:20250120T143315Z
UID:1213-1737482400-1737487800@gilescountytndemocrats.com
SUMMARY:Giles County Democratic Party\, January 2025 Meeting
DESCRIPTION:The Giles County Democratic Party will meet on Tuesday\, January 21st\, 6:00 pm\, at the Pulaski Rec Center.  All supporters are invited to attend and be a part of the discussion.  \n  \nMeeting Agenda \nCall to Order\nMoment of Silence\nPledge of Allegiance\nRoll Call\nApproval of Minutes\nTreasurer’s Report\nChair’s report\nNAACP report\nGCIC report\nStrategy and Priority for 2025\nCommittee Reports\n1. College Democrats\n2. Voters Registration\n3. Speakers\n4. Technical Outreach\n5. Fund Raising\nUnfinished Business\nNew Business\nElections\nAnnouncement
URL:https://gilescountytndemocrats.com/event/giles-county-democratic-party-january-20205-meeting/
LOCATION:Pulaski Recreation Center\, 333 East College Street\, Pulaski\, TN\, TN\, 38478\, United States
ORGANIZER;CN="Democratic Party of Giles County":MAILTO:demsgilesco@gmail.com
END:VEVENT
BEGIN:VEVENT
DTSTART;TZID=America/Chicago:20250218T180000
DTEND;TZID=America/Chicago:20250218T193000
DTSTAMP:20260419T125632
CREATED:20250213T210608Z
LAST-MODIFIED:20250213T213156Z
UID:1226-1739901600-1739907000@gilescountytndemocrats.com
SUMMARY:Giles County Democratic Party February 2025 Meeting
DESCRIPTION:The Giles County Democratic Party will meet on Tuesday February 18th\, 6:00 pm at the Pulaski Rec Center.   \nAll supporters of the Democratic Party are invited to attend and be a part of the work we’re doing to try and stop the destruction of our U.S. Constitution and the Rule of Law. \n 
URL:https://gilescountytndemocrats.com/event/giles-county-democratic-party-february-2025-meeting/
LOCATION:Pulaski Recreation Center\, 333 East College Street\, Pulaski\, TN\, TN\, 38478\, United States
ORGANIZER;CN="Democratic Party of Giles County":MAILTO:demsgilesco@gmail.com
END:VEVENT
BEGIN:VEVENT
DTSTART;TZID=America/Chicago:20250412T093000
DTEND;TZID=America/Chicago:20250412T120000
DTSTAMP:20260419T125632
CREATED:20250324T133823Z
LAST-MODIFIED:20250410T145616Z
UID:1242-1744450200-1744459200@gilescountytndemocrats.com
SUMMARY:Giles County Democratic Party Reorganization Convention
DESCRIPTION:The Giles County Democratic Party will hold the biennial Reorganization Convention on Saturday\, April 12th.  The purpose of this convention is to elect 4 officers and 2 representatives from each of the county’s 7 districts.  These 18 elected people will make-up the Executive Committee and lead our party for the next two years.  All supporters of the Democratic Party in Giles County are invited to attend the convention as a delegate or to be nominated for a leadership position.   \nRegistration begins at 9:30 am.  The convention will begin at 10:00 am. \n2025 Reorg Convention Agenda   \nGiles County 2025 County Party Standard Bylaws (Approved)
URL:https://gilescountytndemocrats.com/event/giles-county-democratic-party-reorganization-convention/
LOCATION:Pulaski Event Center\, 410 N. First Street\, Pulaski\, TN\, 38478\, United States
ORGANIZER;CN="Democratic Party of Giles County":MAILTO:demsgilesco@gmail.com
END:VEVENT
BEGIN:VEVENT
DTSTART;TZID=America/Chicago:20250415T180000
DTEND;TZID=America/Chicago:20250415T193000
DTSTAMP:20260419T125632
CREATED:20250407T155829Z
LAST-MODIFIED:20250407T160335Z
UID:1250-1744740000-1744745400@gilescountytndemocrats.com
SUMMARY:Giles County Democratic Party\, April 2025 Meeting
DESCRIPTION:The Giles County Democratic Party will hold the next monthly meeting on Tuesday\, April 15th\, 6:00 pm\, at the Pulaski Rec Center.  All supporters of the Democratic Party are invited to attend.
URL:https://gilescountytndemocrats.com/event/giles-county-democratic-party-april-2025-meeting/
LOCATION:Pulaski Recreation Center\, 333 East College Street\, Pulaski\, TN\, TN\, 38478\, United States
ORGANIZER;CN="Democratic Party of Giles County":MAILTO:demsgilesco@gmail.com
END:VEVENT
BEGIN:VEVENT
DTSTART;TZID=America/Chicago:20250520T180000
DTEND;TZID=America/Chicago:20250520T193000
DTSTAMP:20260419T125632
CREATED:20250512T152706Z
LAST-MODIFIED:20250512T153410Z
UID:1261-1747764000-1747769400@gilescountytndemocrats.com
SUMMARY:Giles County Democratic Party May 2025 Meeting
DESCRIPTION:All supporters of the Giles County Democratic Party are invited to attend the May meeting set for Tuesday\, May 20th\, 6:00 pm at the Pulaski Rec Center.  The speaker at the meeting will be Sheriff Purvis\, discussing immigration and customs enforcement in Giles County.   \n 5-20-25 GCDP EC Committee Agenda .docx
URL:https://gilescountytndemocrats.com/event/giles-county-democratic-party-may-2025-meeting/
LOCATION:Pulaski Recreation Center\, 333 East College Street\, Pulaski\, TN\, TN\, 38478\, United States
ORGANIZER;CN="Democratic Party of Giles County":MAILTO:demsgilesco@gmail.com
END:VEVENT
BEGIN:VEVENT
DTSTART;TZID=America/Chicago:20250617T180000
DTEND;TZID=America/Chicago:20250617T193000
DTSTAMP:20260419T125632
CREATED:20250605T221751Z
LAST-MODIFIED:20250616T162427Z
UID:1265-1750183200-1750188600@gilescountytndemocrats.com
SUMMARY:Giles County Democratic Party June 2025 Meeting
DESCRIPTION:The GCDP will hold the next monthly meeting on Tuesday\, June 17th at 6:00 pm.  The location will be the Pulaski Rec Center.  All supporters of the Democratic Party are very welcome to join us as we discuss our activities and the business of getting Democrats elected.   \n Speaker – Phil Reese Giles County Economic Director \n6-17-25 GCDP EC Committee Agenda .docx (1)
URL:https://gilescountytndemocrats.com/event/giles-county-democratic-party-june-2025-meeting/
LOCATION:Pulaski Recreation Center\, 333 East College Street\, Pulaski\, TN\, TN\, 38478\, United States
ORGANIZER;CN="Democratic Party of Giles County":MAILTO:demsgilesco@gmail.com
END:VEVENT
BEGIN:VEVENT
DTSTART;TZID=America/Chicago:20250715T180000
DTEND;TZID=America/Chicago:20250715T193000
DTSTAMP:20260419T125632
CREATED:20250701T141607Z
LAST-MODIFIED:20250714T145231Z
UID:1278-1752602400-1752607800@gilescountytndemocrats.com
SUMMARY:Giles County Democratic Party\, July 2025 Meeting
DESCRIPTION:The Giles County Democratic Party will meet on Tuesday\, July 15th\, 6:00 pm at the Pulaski Recreation Center.  All supporters of the Democratic Party are invited to attend.  During this meeting we will discuss the upcoming local elections\, open seats and recruitment of candidates.   \n7-15-25 GCDP EC Committee Agenda .docx (1)
URL:https://gilescountytndemocrats.com/event/giles-county-democratic-party-july-2025-meeting/
LOCATION:Pulaski Recreation Center\, 333 East College Street\, Pulaski\, TN\, TN\, 38478\, United States
ORGANIZER;CN="Democratic Party of Giles County":MAILTO:demsgilesco@gmail.com
END:VEVENT
BEGIN:VEVENT
DTSTART;TZID=America/Chicago:20250819T180000
DTEND;TZID=America/Chicago:20250819T193000
DTSTAMP:20260419T125632
CREATED:20250724T213248Z
LAST-MODIFIED:20250817T194428Z
UID:1287-1755626400-1755631800@gilescountytndemocrats.com
SUMMARY:Giles County Democratic Party August 2025 Meeting
DESCRIPTION:The Giles County Democratic Party will meet Tuesday\, August 19th at 6:pm.  The meeting will be held at the Pulaski Rec Center.  All county supporters are invited to attend and be a part of the discussion on getting Democrats elected.  The agenda is attached below.  Hope to see you there.   \n8-19-25 GCDP EC Committee Agenda .docx (1)
URL:https://gilescountytndemocrats.com/event/giles-county-democratic-party-august-2025-meeting/
LOCATION:Pulaski Recreation Center\, 333 East College Street\, Pulaski\, TN\, TN\, 38478\, United States
ORGANIZER;CN="Democratic Party of Giles County":MAILTO:demsgilesco@gmail.com
END:VEVENT
BEGIN:VEVENT
DTSTART;TZID=America/Chicago:20250916T180000
DTEND;TZID=America/Chicago:20250916T193000
DTSTAMP:20260419T125632
CREATED:20250904T175642Z
LAST-MODIFIED:20250914T200507Z
UID:1305-1758045600-1758051000@gilescountytndemocrats.com
SUMMARY:Giles County Democratic Party\, September 2025 Meeting
DESCRIPTION:The GCDP will meet on Tuesday\, September 16th\, 6:00 pm at the Pulaski Rec Center.  All supporters are welcome to join us to discuss our activities around getting Democrats elected.  County Commissioner elections are coming up soon and we need your help to begin to turn Tennessee around.   \nAgenda for the meeting: \n9-16-25 GCDP EC Committee Agenda .docx
URL:https://gilescountytndemocrats.com/event/giles-county-democratic-party-september-2025-meeting/
LOCATION:Pulaski Recreation Center\, 333 East College Street\, Pulaski\, TN\, TN\, 38478\, United States
ORGANIZER;CN="Democratic Party of Giles County":MAILTO:demsgilesco@gmail.com
END:VEVENT
BEGIN:VEVENT
DTSTART;TZID=America/Chicago:20251014T170000
DTEND;TZID=America/Chicago:20251014T180000
DTSTAMP:20260419T125632
CREATED:20250922T201452Z
LAST-MODIFIED:20250922T201452Z
UID:1343-1760461200-1760464800@gilescountytndemocrats.com
SUMMARY:Giles County Democratic Party\, Technical Outreach Committee Meeting
DESCRIPTION:The Tech Outreach Committee will meet again on Tuesday\, October 14th\, 5:00 pm\, at the Pulaski Rec Center Scout Room.  All interested supporters are welcome to attend.  
URL:https://gilescountytndemocrats.com/event/giles-county-democratic-party-technical-outreach-committee-meeting/
LOCATION:Pulaski Recreation Center\, 333 East College Street\, Pulaski\, TN\, TN\, 38478\, United States
ORGANIZER;CN="Democratic Party of Giles County":MAILTO:demsgilesco@gmail.com
END:VEVENT
BEGIN:VEVENT
DTSTART;TZID=America/Chicago:20251018T110000
DTEND;TZID=America/Chicago:20251018T130000
DTSTAMP:20260419T125632
CREATED:20251009T151754Z
LAST-MODIFIED:20251009T153528Z
UID:1349-1760785200-1760792400@gilescountytndemocrats.com
SUMMARY:South Central Tennessee Indivisible - "No Kings" Protest
DESCRIPTION:Location; Stadium Street\, Pulaski\, TN.  11:00 AM.  Meet in parking lot on Stadium Street between Hickory House and museum adjacent to ball field.\n\nIn America\, we don’t put up with would-be kings. BRING YOUR SIGNS AND FLAGS and join our demonstration! \nOur peaceful movement is only getting bigger and stronger. “NO KINGS” is more than just a slogan—it’s the foundation our nation was built upon. \nA core principle behind all No Kings events is a commitment to nonviolent action. We expect all participants to seek to de-escalate any potential confrontation with those who disagree with our values and to act lawfully at these events. Weapons of any kind\, including those legally permitted\, should not be brought to events.
URL:https://gilescountytndemocrats.com/event/south-central-tennessee-indivisible-no-kings-protest/
LOCATION:Stadium Street Parking Lot\, 224 Stadium Street\, Pulaski\, TN\, 38478\, United States
END:VEVENT
BEGIN:VEVENT
DTSTART;TZID=America/Chicago:20251021T180000
DTEND;TZID=America/Chicago:20251021T193000
DTSTAMP:20260419T125632
CREATED:20250922T202214Z
LAST-MODIFIED:20250922T202314Z
UID:1345-1761069600-1761075000@gilescountytndemocrats.com
SUMMARY:Giles County Democratic Party - October 2025 Meeting
DESCRIPTION:The Giles County Democratic Party will meet on Tuesday\, October 21st at 6:00 pm\, at the Pulaski Rec Center.  All supporters of the Democratic Party are invited to attend and join our activities to get more democrats elected as our public servants.  The meeting agenda will be posted on this page when it becomes available.  
URL:https://gilescountytndemocrats.com/event/giles-county-democratic-party-october-2025-meeting/
LOCATION:Pulaski Recreation Center\, 333 East College Street\, Pulaski\, TN\, TN\, 38478\, United States
ORGANIZER;CN="Democratic Party of Giles County":MAILTO:demsgilesco@gmail.com
END:VEVENT
BEGIN:VEVENT
DTSTART;TZID=America/Chicago:20251111T170000
DTEND;TZID=America/Chicago:20251111T180000
DTSTAMP:20260419T125632
CREATED:20251106T190040Z
LAST-MODIFIED:20251106T190040Z
UID:1357-1762880400-1762884000@gilescountytndemocrats.com
SUMMARY:GCDP Technical Outreach Committee Nov25 Meeting
DESCRIPTION:The Technical Outreach Committee will meet on Tuesday\, November 11th at 5:00 pm.  The location for the meeting will be the Scout Room at the Pulaski Rec Center.  All supporters interested in this committee’s activities are invited to attend.  
URL:https://gilescountytndemocrats.com/event/gcdp-technical-outreach-committee-nov25-meeting/
LOCATION:Pulaski Recreation Center\, 333 East College Street\, Pulaski\, TN\, TN\, 38478\, United States
ORGANIZER;CN="Democratic Party of Giles County":MAILTO:demsgilesco@gmail.com
END:VEVENT
BEGIN:VEVENT
DTSTART;TZID=America/Chicago:20251118T180000
DTEND;TZID=America/Chicago:20251118T193000
DTSTAMP:20260419T125632
CREATED:20251106T192714Z
LAST-MODIFIED:20251111T172250Z
UID:1359-1763488800-1763494200@gilescountytndemocrats.com
SUMMARY:Giles County Democratic Party Meeting - Nov 2025
DESCRIPTION:All supporters of the Giles County Democratic Party are invited to join us at our next monthly meeting on Tuesday\, November 18th at 6:00 pm.  We’ll meet at the Pulaski Rec Center.  We are working on identifying potential candidates for the county government races coming up next year and welcome your participation.   \n \n11-18-25 GCDP EC Committee Agenda .docx
URL:https://gilescountytndemocrats.com/event/giles-county-democratic-party-meeting-nov-2025/
LOCATION:Pulaski Recreation Center\, 333 East College Street\, Pulaski\, TN\, TN\, 38478\, United States
ORGANIZER;CN="Democratic Party of Giles County":MAILTO:demsgilesco@gmail.com
END:VEVENT
BEGIN:VEVENT
DTSTART;TZID=America/Chicago:20251213T180000
DTEND;TZID=America/Chicago:20251213T210000
DTSTAMP:20260419T125632
CREATED:20251212T030252Z
LAST-MODIFIED:20251212T031115Z
UID:1372-1765648800-1765659600@gilescountytndemocrats.com
SUMMARY:Giles County Democratic Party\, Regional Holiday Christmas Party
DESCRIPTION:The Giles County Democratic Party\, along with the Tennessee Democratic Party are sponsoring a regional Christmas Party on Saturday\, December 13th\, from 6:00 to 9:00 pm at the upstairs room of Kitchen 218 in Pulaski.   \nJoin us to meet candidates and plan for recruiting our leaders for the 2026 elections.  Learn how you can run for office.   \nVictoria Broderick (TN04 Congressional candidate) and Joyce Neal (candidate for District 5) are confirmed. Rachael Murray from Lewis and Christie Rice from Wayne are also attending. More candidates are being contacted.  Local candidates will also be attending.   \n \n  \n 
URL:https://gilescountytndemocrats.com/event/giles-county-democratic-party-regional-holiday-christmas-party/
LOCATION:Kitchen 218\, 218 N First Street\, Pulaski\, TN
ORGANIZER;CN="Democratic Party of Giles County":MAILTO:demsgilesco@gmail.com
END:VEVENT
BEGIN:VEVENT
DTSTART;TZID=America/Chicago:20260106T170000
DTEND;TZID=America/Chicago:20260106T180000
DTSTAMP:20260419T125632
CREATED:20251230T195127Z
LAST-MODIFIED:20251230T195127Z
UID:1378-1767718800-1767722400@gilescountytndemocrats.com
SUMMARY:Technical Outreach Committee Meeting Jan 2026
DESCRIPTION:The Technical Outreach Committee will meet Tuesday\, January 6th\, 5:00 pm at the Pulaski Rec Center\, Scout Room.  All interested supporters are invited to attend.  
URL:https://gilescountytndemocrats.com/event/technical-outreach-committee-meeting-jan-2026/
LOCATION:Pulaski Recreation Center\, 333 East College Street\, Pulaski\, TN\, TN\, 38478\, United States
ORGANIZER;CN="Democratic Party of Giles County":MAILTO:demsgilesco@gmail.com
END:VEVENT
BEGIN:VEVENT
DTSTART;TZID=America/Chicago:20260120T180000
DTEND;TZID=America/Chicago:20260120T190000
DTSTAMP:20260419T125632
CREATED:20251230T195537Z
LAST-MODIFIED:20260115T162635Z
UID:1380-1768932000-1768935600@gilescountytndemocrats.com
SUMMARY:Giles County Democratic Party Meeting\, January 2026
DESCRIPTION:  \nThe Giles County Democratic Party will meet on Tuesday\, January 20th\, 6:00 pm at the Pulaski Rec Center.  The guest speaker will be Seth Campbell\, TNDP Executive Committee member.  All supporters of the Democratic Party are invited to join us for discussions around our activities to get Democrats elected.    The agenda for the meeting is attached.  Hope to see you there.   \n1-20-2026 GCDP EC Committee Agenda .docx
URL:https://gilescountytndemocrats.com/event/giles-county-democratic-party-meeting-january-2026/
LOCATION:Pulaski Recreation Center\, 333 East College Street\, Pulaski\, TN\, TN\, 38478\, United States
ORGANIZER;CN="Democratic Party of Giles County":MAILTO:demsgilesco@gmail.com
END:VEVENT
BEGIN:VEVENT
DTSTART;TZID=America/Chicago:20260217T180000
DTEND;TZID=America/Chicago:20260217T193000
DTSTAMP:20260419T125632
CREATED:20260210T164636Z
LAST-MODIFIED:20260210T170626Z
UID:1388-1771351200-1771356600@gilescountytndemocrats.com
SUMMARY:Giles County Democratic Party\, February 2026 Meeting
DESCRIPTION:The Giles County Democratic Party will hold the next meeting on Tuesday\, February 17th\, 6:00 pm\, at the Pulaski Rec Center.  All supporters are invited to join us as we discuss the upcoming Democratic Primary and the candidates that have stepped up to run on the Democratic ticket.   \n2-17-2026 GCDP EC Committee Agenda .docx \nMinutes of the Giles County Democrats Jan. 20 meeting \nMike Cesarini\, chairman of the Giles County Democrats\, called the monthly meeting of the party executive committee and other interested party members to order at 6 p.m.\, Jan. 20 at the Pulaski Park and Recreation Center. \nA moment of silence was observed\, and Cesarini led the group in the pledge of allegiance. \nSecretary Paul Manke called the roll of the executive committee A quorum was present. \nPresent were Cesarini\, treasurer Carol Mccomiskey\, Manke\, Sharon Rush\, David Daniels\, Susan Coleman\, Tom Gattis\, Laurie Wade\, Harvey Inman\, Virginia LaDoux\, Ruthie Watkins\, Maxie Trotter\, Hardin Franklin. \nNot present: Janice Tucker\, Susan McCoy\, Roddy Fernandez\, Carolyn Abernathy\, Judy Ashmore. \nSeth Campbell\, District 28 Democratic committeeman\, who’s guest speaker\, said county parties in District 28: Giles\, Lewis\, Maury\, Marshall\, Wayne and part of Williamson\, are active and organized. \nDemocrat Aftyn Behn\, a Nashville state representative\, lost to Republican Matt Van Epps\, in a special election to replace Mark Green\, who resigned his congressional seat. Campbell said the Republican margin of victory was much smaller than when Green was elected. \nPresident Donald Trump has hurt the Republican cause\, which could be reflected in upcoming elections\, Campbell said. \nIn other business: \n• Cesarini gave the chairman’s report. He thanked Giles County Democrats who have qualified to run for offices as Democrats in upcoming elections and urged more to do so. \nSix people from Giles County have said they plan to run for office\, with the goal of getting more candidates to run as Democrats\, he said. \nCesarini is running for county commissioner. \n• Mccomiskey gave the treasurer’s report\, which was approved. Wade made the motion to accept the report\, seconded by Coleman. \n• Minutes of the December meeting were approved. Coleman made the motion to approve\, and Wade seconded. \n• Democrats discussed extending the lease for a billboard for which Rush has prepared messages. \nIt’s very important for Democrats to continue supporting causes that benefit the community\, she said. \n• A report was given on the NAACP. Preparations are moving ahead for the annual Founder’s Day\, an annual celebration and fundraiser at First National Bank at 6 p.m.\, Feb. 28. \n 
URL:https://gilescountytndemocrats.com/event/giles-county-democratic-party-february-2026-meeting/
LOCATION:Pulaski Recreation Center\, 333 East College Street\, Pulaski\, TN\, TN\, 38478\, United States
ORGANIZER;CN="Democratic Party of Giles County":MAILTO:demsgilesco@gmail.com
END:VEVENT
END:VCALENDAR