BEGIN:VCALENDAR
VERSION:2.0
PRODID:-//Giles County Democrats - ECPv6.15.20//NONSGML v1.0//EN
CALSCALE:GREGORIAN
METHOD:PUBLISH
X-WR-CALNAME:Giles County Democrats
X-ORIGINAL-URL:https://gilescountytndemocrats.com
X-WR-CALDESC:Events for Giles County Democrats
REFRESH-INTERVAL;VALUE=DURATION:PT1H
X-Robots-Tag:noindex
X-PUBLISHED-TTL:PT1H
BEGIN:VTIMEZONE
TZID:America/Chicago
BEGIN:DAYLIGHT
TZOFFSETFROM:-0600
TZOFFSETTO:-0500
TZNAME:CDT
DTSTART:20200308T080000
END:DAYLIGHT
BEGIN:STANDARD
TZOFFSETFROM:-0500
TZOFFSETTO:-0600
TZNAME:CST
DTSTART:20201101T070000
END:STANDARD
BEGIN:DAYLIGHT
TZOFFSETFROM:-0600
TZOFFSETTO:-0500
TZNAME:CDT
DTSTART:20210314T080000
END:DAYLIGHT
BEGIN:STANDARD
TZOFFSETFROM:-0500
TZOFFSETTO:-0600
TZNAME:CST
DTSTART:20211107T070000
END:STANDARD
BEGIN:DAYLIGHT
TZOFFSETFROM:-0600
TZOFFSETTO:-0500
TZNAME:CDT
DTSTART:20220313T080000
END:DAYLIGHT
BEGIN:STANDARD
TZOFFSETFROM:-0500
TZOFFSETTO:-0600
TZNAME:CST
DTSTART:20221106T070000
END:STANDARD
BEGIN:DAYLIGHT
TZOFFSETFROM:-0600
TZOFFSETTO:-0500
TZNAME:CDT
DTSTART:20230312T080000
END:DAYLIGHT
BEGIN:STANDARD
TZOFFSETFROM:-0500
TZOFFSETTO:-0600
TZNAME:CST
DTSTART:20231105T070000
END:STANDARD
END:VTIMEZONE
BEGIN:VEVENT
DTSTART;TZID=America/Chicago:20220118T180000
DTEND;TZID=America/Chicago:20220118T190000
DTSTAMP:20260419T111026
CREATED:20220105T141628Z
LAST-MODIFIED:20220105T151355Z
UID:754-1642528800-1642532400@gilescountytndemocrats.com
SUMMARY:January 2022 Monthly Meeting
DESCRIPTION:All Democrats are welcome to attend the January 2022 monthly meeting of the Giles County\, Tennessee\, Democratic Party at the Pulaski Event Center. Masks will be required. Please let us know at least three days before the meeting if you would like to attend electronically. If you would like to be alerted about future meetings and event\, register for our mailing list on our website\, gilescountytndemocrats.com.
URL:https://gilescountytndemocrats.com/event/january-2022-monthly-meeting/
LOCATION:Rose of Sharon Chapel\, 126 Chestnut Street\, Pulaski\, 38478\, United States
ATTACH;FMTTYPE=image/jpeg:https://gilescountytndemocrats.com/wp-content/uploads/2022/01/american-flag-2104537_1280.jpg
ORGANIZER;CN="Democratic Party of Giles County":MAILTO:demsgilesco@gmail.com
END:VEVENT
BEGIN:VEVENT
DTSTART;TZID=America/Chicago:20211204T100000
DTEND;TZID=America/Chicago:20211204T110000
DTSTAMP:20260419T111026
CREATED:20211201T173730Z
LAST-MODIFIED:20211201T174210Z
UID:746-1638612000-1638615600@gilescountytndemocrats.com
SUMMARY:JB Smiley Jr.\, Candidate for Governor\, to Visit Pulaski Dec. 4
DESCRIPTION:The Giles County Democratic Party will host a Meet & Greet for Democratic Candidate for Governor\, Councilman JB Smiley Jr. of the Memphis City Council. This event is scheduled for Saturday\, Dec. 4\, 2021\, at 10 a.m. at the Courthouse Gazebo located at 222 West Madison St.\, Pulaski\, Tennessee. \n“It is our responsibility as citizens to elect individuals that are competent and compassionate\, who will stand up for the rights of our children\, women\, teachers\, and unions\,” said Councilman Smiley. “Pulaski\, TN should no longer be known as the birthplace of the Ku Klux Klan but for change and unity that can spill over to other surrounding counties to create a Tennessee that will be better for all who live here.” \n\n\n\n\nThis will be stop 34 of his 95 county statewide tour. \n\n\n\n\n\n“I am looking forward to spending time with the people of Giles County. To hear their concerns and get to know who I am. I hope you all will join me as we work to build a better Tennessee\, together\,” the candidate said.\n\n\nTo learn more about the campaign\, please visit www.votejbsmiley.com or email votejbsmiley@gmail.com.
URL:https://gilescountytndemocrats.com/event/jb-smiley-jr-visit-12-4/
LOCATION:Giles County Courthouse Square\, 1 Public Square\, Pulaski\, 38478\, United States
ATTACH;FMTTYPE=image/jpeg:https://gilescountytndemocrats.com/wp-content/uploads/2021/12/252264852_324056259547407_6127690338203843829_n.jpg
ORGANIZER;CN="Democratic Party of Giles County":MAILTO:demsgilesco@gmail.com
END:VEVENT
BEGIN:VEVENT
DTSTART;TZID=America/Chicago:20211116T180000
DTEND;TZID=America/Chicago:20211116T190000
DTSTAMP:20260419T111026
CREATED:20211110T173426Z
LAST-MODIFIED:20211112T184648Z
UID:728-1637085600-1637089200@gilescountytndemocrats.com
SUMMARY:November 2021 Monthly Meeting
DESCRIPTION:All Democrats are welcome to attend the monthly meeting at the Pulaski Event Center\, 410 NORTH FIRST STREET\, Pulaski\, 38478\, to discuss upcoming plans and other initiatives of the local party. \nWe are asking that if you plan to attend in person\, you will have been fully vaccinated or have had a negative covid test within seven days of the meeting.  That way we can feel safe to meet in person indoors. We will still wear masks and social distance. \nIf you are unable to meet these requirements and still want to participate in the meeting\, let us know three days in advance if you would like to join up via zoom or another electronic option.
URL:https://gilescountytndemocrats.com/event/november-2021-monthly-meeting/
LOCATION:Rose of Sharon Chapel\, 126 Chestnut Street\, Pulaski\, 38478\, United States
ATTACH;FMTTYPE=image/jpeg:https://gilescountytndemocrats.com/wp-content/uploads/2021/11/freedom-2486201_1280.jpg
ORGANIZER;CN="Democratic Party of Giles County":MAILTO:demsgilesco@gmail.com
END:VEVENT
BEGIN:VEVENT
DTSTART;TZID=America/Chicago:20211023T130000
DTEND;TZID=America/Chicago:20211023T143000
DTSTAMP:20260419T111026
CREATED:20211011T124310Z
LAST-MODIFIED:20211011T130307Z
UID:717-1634994000-1634999400@gilescountytndemocrats.com
SUMMARY:State Democratic Party Chairman Hosted by Local Party
DESCRIPTION:The Giles County Democratic Party welcomes the Tennessee Democratic Party’s state chairman\, Hendrell Remus\, to a special event on Oct. 23\, 2021\, at 1 p.m. \nThe event is free to all Democrats and those eager to learn more about the Party’s agenda for the upcoming years. \nRemus is the first African American elected to serve as Tennessee’s state party chairman and the first in state history to be chair of any major party. At 34 years old he is also the first millennial to serve in such a capacity. \nRemus served as an Ex-officio member of the Tennessee Democratic Party Executive Committee and as the National Committeeman for the TN Young Democrats. \nWith a commitment to Democratic values\, Remus has worked on a number of TN campaigns. From serving as a strategic advisor to mayoral and state house candidates to assisting local school board\, city council and county commission races\, he has been an asset to Democratic candidates and causes.  Often driven by the same volunteerism that led him into politics during the 2008 campaign of Barack Obama. \nPrior to becoming Chair\, Hendrell Remus worked as the Assistant Director of Emergency Management at Tennessee State University\, a role that followed his tenure as the Middle TN Operations Manager for Allied Universal. \nHis background in business management and operations\, coupled with a passion for progressive politics\, sets the tone for his leadership at the helm of TNDP. Chair Remus is focused on building a stronger TN Democratic party infrastructure and beginning the hard work to register more voters and elect more Democrats. \n“We are going to take back the mantle of the people\, it’s time for us to start highlighting how under republican leadership so many have really falling off the economic cliff\,” Remus said. \nRemus admits the “to-do” list is long. \n“I’m extremely hopeful for the future of the Democratic Party and I think we’re going to do some great things in the coming years\,” said the Memphis native who lives in Nashville with his wife and two children. \nDonations to the Giles County Democratic Party will be accepted at the Oct. 23 free event. \nAdditionally\, a limited number of Giles County Democratic Party T-Shirts will be available for a minimum $15 donation. \n 
URL:https://gilescountytndemocrats.com/event/remus-visit-oct-23/
LOCATION:Giles County Agri-Park\, 2014 Elkton Pike\, Pulaski\, TN\, 38478\, United States
ATTACH;FMTTYPE=image/png:https://gilescountytndemocrats.com/wp-content/uploads/2021/10/ewscripps.brightspotcdn-1.png
ORGANIZER;CN="Democratic Party of Giles County":MAILTO:demsgilesco@gmail.com
END:VEVENT
BEGIN:VEVENT
DTSTART;TZID=America/Chicago:20211023T130000
DTEND;TZID=America/Chicago:20211023T140000
DTSTAMP:20260419T111026
CREATED:20231003T001659Z
LAST-MODIFIED:20231003T001659Z
UID:947-1634994000-1634997600@gilescountytndemocrats.com
SUMMARY:Meet Hendrell Remus
DESCRIPTION:Democratic Party State Chair\, Tennessee\n\n\n\n\nOn Jan. 16\, 2021\, Hendrell Remus became the first Black man or woman to be elected party chair in Tennessee history. Remus served as an Ex-officio member of the Tennessee Democratic Party Executive Committee and as the National Committeeman for the TN Young Democrats. \nWith a commitment to Democratic values\, Remus has worked on a number of TN campaigns. From serving as a strategic advisor to mayoral and state house candidates to assisting local school board\, city council and county commission races\, he has been an asset to Democratic candidates and causes.  Often driven by the same volunteerism that led him into politics during the 2008 campaign of Barack Obama. \nPrior to becoming Chair\, Hendrell Remus worked as the Assistant Director of Emergency Management at Tennessee State University\, \n a role that followed his tenure as the Middle TN Operations Manager for Allied Universal. \nHis background in business management and operations\, coupled with a passion for progressive politics\, sets the tone for his leadership at the helm of TNDP. Chair Remus is focused on building a stronger TN Democratic party infrastructure and beginning the hard work to register more voters and elect more Democrats. \nThe Memphis\, TN native is a graduate of Excelsior College and currently resides in Nashville\, TN with his wife Marlene and their two children. \n\n\n\n\n\nFacebook\nTwitter\nInstagram
URL:https://gilescountytndemocrats.com/event/meet-hendrell-remus/
LOCATION:Giles County Agri-Park\, 2014 Elkton Pike\, Pulaski\, TN\, 38478\, United States
ATTACH;FMTTYPE=image/jpeg:https://gilescountytndemocrats.com/wp-content/uploads/2023/10/Hendrell-Remus-1536x864-1.jpg
ORGANIZER;CN="Democratic Party of Giles County":MAILTO:demsgilesco@gmail.com
END:VEVENT
BEGIN:VEVENT
DTSTART;TZID=America/Chicago:20211019T180000
DTEND;TZID=America/Chicago:20211019T190000
DTSTAMP:20260419T111026
CREATED:20210930T125735Z
LAST-MODIFIED:20220105T135402Z
UID:707-1634666400-1634670000@gilescountytndemocrats.com
SUMMARY:October 2021 Monthly Meeting
DESCRIPTION:All Democrats are welcome to attend the monthly meeting to discuss plans for fall and other initiatives of the local party. \nAt our last meeting we decided at our meetings everyone should be vaccinated or have had a negative covid test within seven days of the meeting.  That way we can feel safe to meet in person indoors.  We will still wear masks and social distance. \nIf you do not want to meet these requirements and still want to participate in the meeting\, we hope to offer you a zoom option if you let us know in advance.
URL:https://gilescountytndemocrats.com/event/october-2021-monthly-meeting/
LOCATION:Rose of Sharon Chapel\, 126 Chestnut Street\, Pulaski\, 38478\, United States
ATTACH;FMTTYPE=image/jpeg:https://gilescountytndemocrats.com/wp-content/uploads/2021/09/usa-5374127_1280.jpg
ORGANIZER;CN="Democratic Party of Giles County":MAILTO:demsgilesco@gmail.com
END:VEVENT
BEGIN:VEVENT
DTSTART;TZID=America/Chicago:20211009T113000
DTEND;TZID=America/Chicago:20211009T123000
DTSTAMP:20260419T111026
CREATED:20211004T232337Z
LAST-MODIFIED:20211004T232337Z
UID:712-1633779000-1633782600@gilescountytndemocrats.com
SUMMARY:Democratic Gubernatorial Candidate to Speak on Pulaski’s Public Square Oct. 9
DESCRIPTION:Jason Martin\, M.D. will speak on Pulaski’s Courthouse Square on Saturday\, Oct. 9\, at 11:30 a.m. \nThe director of Hendersonville’s critical care unit\, Martin has been a vocal critic of Governor Bill Lee’s handling of the Covid-19 crisis. \n“Overall\, I feel like the governor’s response to COVID has been ‘fend for yourself\,’” Martin recently stated in the Tennessean newspaper. “I think it’s costing people’s lives.” \nThe physician\, who announced his 2022 candidacy for the Governorship of Tennessee in August\, has no prior governmental service. He has referred to himself as an “authentic outsider” and a “moderate” Democrat. As such\, he is conducting a listening tour to meet as many Tennesseans as possible during visits to each of the state’s 95 counties. \nHe has stated his platform as including job creation\, affordable health care and fully-funded education. His appearance in Pulaski\, like during other stops of his listening tour\, are to hear voters’ issues and concerns. \nThe public is encouraged to attend this first step in Martin’s run for leadership of Tennessee.
URL:https://gilescountytndemocrats.com/event/democratic-gubernatorial-candidate-to-speak-on-pulaskis-public-square-oct-9/
LOCATION:Giles County Courthouse Square\, 1 Public Square\, Pulaski\, 38478\, United States
ATTACH;FMTTYPE=image/jpeg:https://gilescountytndemocrats.com/wp-content/uploads/2021/10/1500x500.jpg
END:VEVENT
BEGIN:VEVENT
DTSTART;TZID=America/Chicago:20210921T180000
DTEND;TZID=America/Chicago:20210921T190000
DTSTAMP:20260419T111026
CREATED:20210909T101959Z
LAST-MODIFIED:20210909T101959Z
UID:685-1632247200-1632250800@gilescountytndemocrats.com
SUMMARY:Sept. 2021 Monthly Meeting
DESCRIPTION:The Giles County\, Tennessee\, Democratic Party will hold its regular monthly meeting at the Giles County Agri Park in the concessions pavilion at 6 p.m. on Sept. 21\, 2021. \nAll Giles County Democrats are encouraged to attend. \nProper social distancing will be observed for the health and safety of all participants. \n  \n 
URL:https://gilescountytndemocrats.com/event/sept-2021-monthly-meeting/
LOCATION:Giles County Agri-Park\, 2014 Elkton Pike\, Pulaski\, TN\, 38478\, United States
ATTACH;FMTTYPE=image/jpeg:https://gilescountytndemocrats.com/wp-content/uploads/2021/09/american-flag-795307_640.jpg
ORGANIZER;CN="Democratic Party of Giles County":MAILTO:demsgilesco@gmail.com
END:VEVENT
BEGIN:VEVENT
DTSTART;TZID=America/Chicago:20210910T103000
DTEND;TZID=America/Chicago:20210910T123000
DTSTAMP:20260419T111026
CREATED:20210909T104009Z
LAST-MODIFIED:20210909T104455Z
UID:688-1631269800-1631277000@gilescountytndemocrats.com
SUMMARY:Community Fair\, UT Southern
DESCRIPTION:The Giles County Democratic Party is hosting a booth for UT Southern students at the Community Fair on the Campus Green. Please feel free to stop by the booth. \nWe will be selling T-shirts\, and Keidron Turner will be talking with young people about the UTS Young Democrats organization.
URL:https://gilescountytndemocrats.com/event/community-fair-ut-southern/
LOCATION:UT Southern\, 433 W Madison St.\, Pulaski\, 38478\, United States
ATTACH;FMTTYPE=image/jpeg:https://gilescountytndemocrats.com/wp-content/uploads/2021/09/College-Democrats-Recruitment-Flyer-2.jpg
END:VEVENT
BEGIN:VEVENT
DTSTART;TZID=America/Chicago:20210814T093000
DTEND;TZID=America/Chicago:20210814T120000
DTSTAMP:20260419T111026
CREATED:20210719T214713Z
LAST-MODIFIED:20210805T184850Z
UID:646-1628933400-1628942400@gilescountytndemocrats.com
SUMMARY:Giles County 2021 Biennial Reorganization Convention
DESCRIPTION:All County Democrats Welcome\nThe Giles County Democratic Party will hold a Biennial Reorganization Convention to elect new leaders on Aug. 14. The meeting will take place in an open-air pavilion at the Giles County Agri-Park\, 2014 Elkton Pike\, Pulaski.  \nWearing masks is strongly encouraged\, and all efforts will be made to comply with CDC guidelines for Covid-19 and its variants\, according to Convention organizers \n“All Democrats who are registered voters of Giles County are urged to attend to discuss the party’s agenda for 2021-2022\,” said local party chairman Tom Gattis. “Attendees should arrive early to complete credentialing forms.” \nRegistration begins at 9:30 a.m. The Biennial Reorganization Convention is being held between 10 a.m. and 12 p.m.\, during which time local Democrats will elect a Chair\, Vice Chair(s)\, Secretary and Treasurer. \n“Executive Committee members will be elected from all voting districts of Giles County for a two-year term\,” Gattis said. “We encourage all those interested in helping further the local Democratic Party’s mission to present themselves at the convention as potential candidates for executive committee members or officers.” \nGattis said that local Democrats who would like to run for public office on the local\, state or national level are invited to come to the convention and introduce themselves. \n“This will be a time to meet our new leaders and spend time among other like-minded citizens\,” Gattis said. “We look forward to seeing long-time Giles County Democrats as well as Democrats who are new to the area.” \nAlso included in the morning’s activities will be a voter registration booth and a suggestion box. A limited number of T-shirts will be available for a minimum $15 donation each. \nFor more information about preordering t-shirts or the Convention\, visit gilescountytndemocrats.com\, call Tom Gattis at 931-242-2266 or email the Party at demsgilesco@gmail.com. \nNote: Originally advertised was a public program with speakers refreshments and door prizes following completion of the party’s official business. This event is being rescheduled. Check back here or join our mailing list for upcoming events.
URL:https://gilescountytndemocrats.com/event/2021-convention/
LOCATION:Giles County Agri-Park\, 2014 Elkton Pike\, Pulaski\, TN\, 38478\, United States
ATTACH;FMTTYPE=image/jpeg:https://gilescountytndemocrats.com/wp-content/uploads/2021/07/us-flag-1779063_1280.jpg
ORGANIZER;CN="Democratic Party of Giles County":MAILTO:demsgilesco@gmail.com
END:VEVENT
BEGIN:VEVENT
DTSTART;TZID=America/Chicago:20210120T110000
DTEND;TZID=America/Chicago:20210120T113000
DTSTAMP:20260419T111026
CREATED:20210121T235541Z
LAST-MODIFIED:20210121T235541Z
UID:485-1611140400-1611142200@gilescountytndemocrats.com
SUMMARY:Inaguration of President Joe Biden
DESCRIPTION:Watch as Joe Biden and Kamala Harris are sworn in as President and Vice President.
URL:https://gilescountytndemocrats.com/event/inaguration-of-president-joe-biden/
LOCATION:United States Capitol\, First St SE\, Washington\, DC\, 20004\, United States
ATTACH;FMTTYPE=image/jpeg:https://gilescountytndemocrats.com/wp-content/uploads/2021/01/Biden-Inauguration.jpg
END:VEVENT
END:VCALENDAR